{"text_format":"1","workbook":"xlsx","n_sheets":1,"sheets":["výsledky - body"],"not_rendered":{"charts":0,"images":1,"macros":0,"external_links":0,"defined_names":9,"comments":0,"pivot_tables":0},"unopened":[],"bounds":{"document_bytes":16777216,"sheet_cells":100000,"rows_first":2000,"rows_last":500,"rows_between":2000,"halvings":0,"cell_chars":16384,"cell_head_chars":4096},"cells_cut":0,"cells_raw":0,"read":"whole","date_system":"1900"}

{"sheet":"výsledky - body","index":0,"n_rows":96,"n_cols":14,"rows_kept":96,"cut":false,"hidden":false,"merged":[[1,0,1,12],[17,0,17,12],[19,5,19,10],[19,11,19,12]]}
[]
["Výsledková listina soutěže RC H"]
[]
["Datum a místo konání:",null,null,"11. 9. 2021, modelářské letiště LKHORY u KV"]
["Číslo soutěže:",null,null,583]
["Název soutěže:",null,null,"Ostrovská liga 4/4 - XXVIII. ročník memoriálu Ing. Jiřího Jílka "]
["Pořadatel:",null,null,"MK 02 Ostrov"]
["Ředitel soutěže:",null,null,"Klingora Karel"]
["Jury:",null,null,"předseda - Milan Šulc, členové – Anselm Jiří, Neubauer Jaroslav"]
["Počasí:",null,null,"Jasno až oblačno; vítr Z- JZ;  do 4 m/s; 15°C – 20°C"]
["Počet létaných kol:",null,null,6]
["Časoměřiči (1):",null,null,"Klingora, Šulc, Jakubíček, Petřík, Bystřický"]
["Časoměřiči (2):",null,null,"a neletící soutěžící"]
["Komentář: ",null,null,"Soutěž proběhla podle platných soutěžních pravidel.V průběhu soutěže nebyl podán žádný protest."]
[null,null,null,"Pořadatel děkuje soutěžícím za vzorné sportovní vystupování a přeje jim mnoho úspěchů v dalších soutěžích."]
[null,null,null,"K zajištění soutěže přispěli: Město Ostrov, MDDM Ostrov a Jaroslav Beubauer"]
[]
["Označit B až M a seřadit podle M a potom tento řádek vymazat."]
[]
[null,null,null,null,null,"Časy jednotlivých kol",null,null,null,null,null,"Výsledky"]
["Pořadí","J/Ž","Jméno","LMK","Licence","1. kolo","2. kolo","3. kolo","4. kolo","5. kolo","6. kolo","Odečítá se","body"]
[1,"","Petřík Josef","Chomutov                    ","008-003",1000,1000,1000,934.64052287581706,890.17341040462429,1000,890.17341040462429,1000,{"$f":"SUM(F22:K22)-L22","v":4934.6405228758167}]
[2,"","Schieferdecker Jiří","Louny","285–047",982.14285714285711,1000,1000,680.41237113402065,1000,865.97938144329896,680.41237113402065,982.46715563401574,4848.1222385861556]
[3,"","Klingora Karel","Ostrov                           ","002-001",1000,876.66666666666674,1000,875.77639751552795,1000,680.41237113402065,680.41237113402065,963.0778659865905,4752.4430641821946]
[4,"","Anselm Jiří","Lomnice                    ","280-067",804.05405405405406,1000,897.9591836734694,1000,1000,577.31958762886597,577.31958762886597,952.85831175140549,4702.013237727524]
[5,"","Hofrichter Petr Ing.","Lomnice                     ","280-053",716.21621621621625,1000,1000,832.2981366459627,947.36842105263156,742.26804123711338,716.21621621621625,916.36555448630918,4521.934598935708]
[6,"","Vaněk Jiří","Louny    ","285-058",1000,693.33333333333337,1000,1000,797.6878612716763,607.14285714285711,607.14285714285711,910.10098380737281,4491.0211946050094]
[7,"","Bystřický Ladislav","Panorama K.V.         ","291-048",620.40816326530614,1000,642.85714285714289,1000,774.56647398843927,1000,620.40816326530614,895.18650778460142,4417.4236168455818]
[8,"","Neubauer Honza","Ostrov","002-029",683.03571428571433,790,1000,900.62111801242236,657.89473684210532,973.21428571428567,657.89473684210532,880.88911398132541,4346.8711180124228]
[9,"","Žampach Roman","Duchcov                      ","523-001",448.9795918367347,1000,616.88311688311694,621.11801242236015,976.87861271676297,1000,448.9795918367347,854.14119275417579,4214.87974202224]
[10,"","Šulc Milan Ing.","Ostrov                          ","002-012",276.78571428571428,403.33333333333331,1000,835.05154639175259,1000,859.25925925925924,276.78571428571428,830.38351425775465,4097.6441389843449]
[11,"","Jakubíček Jaroslav","Lomnice                    ","280-036",408.16326530612247,680,741.49659863945578,670.10309278350508,728.07017543859649,750,408.16326530612247,723.39005248982551,3569.6698668615572]
[12,"","Neubauer Jaroslav","Ostrov                           ","002-020",444.89795918367349,0,816.32653061224494,490.19607843137254,854.01459854014593,644.44444444444446,0,658.58487485485819,3249.8796112118816]
[13,"","Melika Jan","Louny","285–089",267.85714285714283,356.66666666666669,590.90909090909099,0,335.76642335766422,955.55555555555566,0,507.9913861456377,2506.7548793461206]
[14,"","Knoflíček Jiří","Ostrov","002-023",0,0,0,0,0,0,0,0,0]
[{"$f":"#REF!","v":{"$error":"#REF!"}},{"$f":"IF(#REF!<>\"\",#REF!,\"\")","v":{"$error":"#REF!"}},{"$f":"IF(#REF!<>\"\",#REF!,\"\")","v":{"$error":"#REF!"}},{"$f":"IF(#REF!<>\"\",#REF!,\"\")","v":{"$error":"#REF!"}},{"$f":"IF(#REF!<>\"\",#REF!,\"\")","v":{"$error":"#REF!"}},{"$f":"#REF!","v":{"$error":"#REF!"}},{"$f":"#REF!","v":{"$error":"#REF!"}},{"$f":"#REF!","v":{"$error":"#REF!"}},{"$f":"#REF!","v":{"$error":"#REF!"}},{"$f":"#REF!","v":{"$error":"#REF!"}},{"$f":"#REF!","v":{"$error":"#REF!"}},{"$f":"MIN(F36:K36)","v":{"$error":"#REF!"}},{"$f":"1000*(N36)/MAX(N$22:N$71)","v":{"$error":"#REF!"}},{"$error":"#REF!"}]
[{"$f":"#REF!","v":{"$error":"#REF!"}},{"$f":"IF(#REF!<>\"\",#REF!,\"\")","v":{"$error":"#REF!"}},{"$f":"IF(#REF!<>\"\",#REF!,\"\")","v":{"$error":"#REF!"}},{"$f":"IF(#REF!<>\"\",#REF!,\"\")","v":{"$error":"#REF!"}},{"$f":"IF(#REF!<>\"\",#REF!,\"\")","v":{"$error":"#REF!"}},{"$f":"#REF!","v":{"$error":"#REF!"}},{"$f":"#REF!","v":{"$error":"#REF!"}},{"$f":"#REF!","v":{"$error":"#REF!"}},{"$f":"#REF!","v":{"$error":"#REF!"}},{"$f":"#REF!","v":{"$error":"#REF!"}},{"$f":"#REF!","v":{"$error":"#REF!"}},{"$error":"#REF!"},{"$error":"#REF!"},{"$error":"#REF!"}]
[{"$f":"#REF!","v":{"$error":"#REF!"}},{"$f":"IF(#REF!<>\"\",#REF!,\"\")","v":{"$error":"#REF!"}},{"$f":"IF(#REF!<>\"\",#REF!,\"\")","v":{"$error":"#REF!"}},{"$f":"IF(#REF!<>\"\",#REF!,\"\")","v":{"$error":"#REF!"}},{"$f":"IF(#REF!<>\"\",#REF!,\"\")","v":{"$error":"#REF!"}},{"$f":"#REF!","v":{"$error":"#REF!"}},{"$f":"#REF!","v":{"$error":"#REF!"}},{"$f":"#REF!","v":{"$error":"#REF!"}},{"$f":"#REF!","v":{"$error":"#REF!"}},{"$f":"#REF!","v":{"$error":"#REF!"}},{"$f":"#REF!","v":{"$error":"#REF!"}},{"$error":"#REF!"},{"$error":"#REF!"},{"$error":"#REF!"}]
[{"$f":"#REF!","v":{"$error":"#REF!"}},{"$f":"IF(#REF!<>\"\",#REF!,\"\")","v":{"$error":"#REF!"}},{"$f":"IF(#REF!<>\"\",#REF!,\"\")","v":{"$error":"#REF!"}},{"$f":"IF(#REF!<>\"\",#REF!,\"\")","v":{"$error":"#REF!"}},{"$f":"IF(#REF!<>\"\",#REF!,\"\")","v":{"$error":"#REF!"}},{"$f":"#REF!","v":{"$error":"#REF!"}},{"$f":"#REF!","v":{"$error":"#REF!"}},{"$f":"#REF!","v":{"$error":"#REF!"}},{"$f":"#REF!","v":{"$error":"#REF!"}},{"$f":"#REF!","v":{"$error":"#REF!"}},{"$f":"#REF!","v":{"$error":"#REF!"}},{"$error":"#REF!"},{"$error":"#REF!"},{"$error":"#REF!"}]
[{"$f":"#REF!","v":{"$error":"#REF!"}},{"$f":"IF(#REF!<>\"\",#REF!,\"\")","v":{"$error":"#REF!"}},{"$f":"IF(#REF!<>\"\",#REF!,\"\")","v":{"$error":"#REF!"}},{"$f":"IF(#REF!<>\"\",#REF!,\"\")","v":{"$error":"#REF!"}},{"$f":"IF(#REF!<>\"\",#REF!,\"\")","v":{"$error":"#REF!"}},{"$f":"#REF!","v":{"$error":"#REF!"}},{"$f":"#REF!","v":{"$error":"#REF!"}},{"$f":"#REF!","v":{"$error":"#REF!"}},{"$f":"#REF!","v":{"$error":"#REF!"}},{"$f":"#REF!","v":{"$error":"#REF!"}},{"$f":"#REF!","v":{"$error":"#REF!"}},{"$error":"#REF!"},{"$error":"#REF!"},{"$error":"#REF!"}]
[{"$f":"#REF!","v":{"$error":"#REF!"}},{"$f":"IF(#REF!<>\"\",#REF!,\"\")","v":{"$error":"#REF!"}},{"$f":"IF(#REF!<>\"\",#REF!,\"\")","v":{"$error":"#REF!"}},{"$f":"IF(#REF!<>\"\",#REF!,\"\")","v":{"$error":"#REF!"}},{"$f":"IF(#REF!<>\"\",#REF!,\"\")","v":{"$error":"#REF!"}},{"$f":"#REF!","v":{"$error":"#REF!"}},{"$f":"#REF!","v":{"$error":"#REF!"}},{"$f":"#REF!","v":{"$error":"#REF!"}},{"$f":"#REF!","v":{"$error":"#REF!"}},{"$f":"#REF!","v":{"$error":"#REF!"}},{"$f":"#REF!","v":{"$error":"#REF!"}},{"$error":"#REF!"},{"$error":"#REF!"},{"$error":"#REF!"}]
[{"$f":"#REF!","v":{"$error":"#REF!"}},{"$f":"IF(#REF!<>\"\",#REF!,\"\")","v":{"$error":"#REF!"}},{"$f":"IF(#REF!<>\"\",#REF!,\"\")","v":{"$error":"#REF!"}},{"$f":"IF(#REF!<>\"\",#REF!,\"\")","v":{"$error":"#REF!"}},{"$f":"IF(#REF!<>\"\",#REF!,\"\")","v":{"$error":"#REF!"}},{"$f":"#REF!","v":{"$error":"#REF!"}},{"$f":"#REF!","v":{"$error":"#REF!"}},{"$f":"#REF!","v":{"$error":"#REF!"}},{"$f":"#REF!","v":{"$error":"#REF!"}},{"$f":"#REF!","v":{"$error":"#REF!"}},{"$f":"#REF!","v":{"$error":"#REF!"}},{"$error":"#REF!"},{"$error":"#REF!"},{"$error":"#REF!"}]
[{"$f":"#REF!","v":{"$error":"#REF!"}},{"$f":"IF(#REF!<>\"\",#REF!,\"\")","v":{"$error":"#REF!"}},{"$f":"IF(#REF!<>\"\",#REF!,\"\")","v":{"$error":"#REF!"}},{"$f":"IF(#REF!<>\"\",#REF!,\"\")","v":{"$error":"#REF!"}},{"$f":"IF(#REF!<>\"\",#REF!,\"\")","v":{"$error":"#REF!"}},{"$f":"#REF!","v":{"$error":"#REF!"}},{"$f":"#REF!","v":{"$error":"#REF!"}},{"$f":"#REF!","v":{"$error":"#REF!"}},{"$f":"#REF!","v":{"$error":"#REF!"}},{"$f":"#REF!","v":{"$error":"#REF!"}},{"$f":"#REF!","v":{"$error":"#REF!"}},{"$error":"#REF!"},{"$error":"#REF!"},{"$error":"#REF!"}]
[{"$f":"#REF!","v":{"$error":"#REF!"}},{"$f":"IF(#REF!<>\"\",#REF!,\"\")","v":{"$error":"#REF!"}},{"$f":"IF(#REF!<>\"\",#REF!,\"\")","v":{"$error":"#REF!"}},{"$f":"IF(#REF!<>\"\",#REF!,\"\")","v":{"$error":"#REF!"}},{"$f":"IF(#REF!<>\"\",#REF!,\"\")","v":{"$error":"#REF!"}},{"$f":"#REF!","v":{"$error":"#REF!"}},{"$f":"#REF!","v":{"$error":"#REF!"}},{"$f":"#REF!","v":{"$error":"#REF!"}},{"$f":"#REF!","v":{"$error":"#REF!"}},{"$f":"#REF!","v":{"$error":"#REF!"}},{"$f":"#REF!","v":{"$error":"#REF!"}},{"$error":"#REF!"},{"$error":"#REF!"},{"$error":"#REF!"}]
[{"$f":"#REF!","v":{"$error":"#REF!"}},{"$f":"IF(#REF!<>\"\",#REF!,\"\")","v":{"$error":"#REF!"}},{"$f":"IF(#REF!<>\"\",#REF!,\"\")","v":{"$error":"#REF!"}},{"$f":"IF(#REF!<>\"\",#REF!,\"\")","v":{"$error":"#REF!"}},{"$f":"IF(#REF!<>\"\",#REF!,\"\")","v":{"$error":"#REF!"}},{"$f":"#REF!","v":{"$error":"#REF!"}},{"$f":"#REF!","v":{"$error":"#REF!"}},{"$f":"#REF!","v":{"$error":"#REF!"}},{"$f":"#REF!","v":{"$error":"#REF!"}},{"$f":"#REF!","v":{"$error":"#REF!"}},{"$f":"#REF!","v":{"$error":"#REF!"}},{"$error":"#REF!"},{"$error":"#REF!"},{"$error":"#REF!"}]
[{"$f":"#REF!","v":{"$error":"#REF!"}},{"$f":"IF(#REF!<>\"\",#REF!,\"\")","v":{"$error":"#REF!"}},{"$f":"IF(#REF!<>\"\",#REF!,\"\")","v":{"$error":"#REF!"}},{"$f":"IF(#REF!<>\"\",#REF!,\"\")","v":{"$error":"#REF!"}},{"$f":"IF(#REF!<>\"\",#REF!,\"\")","v":{"$error":"#REF!"}},{"$f":"#REF!","v":{"$error":"#REF!"}},{"$f":"#REF!","v":{"$error":"#REF!"}},{"$f":"#REF!","v":{"$error":"#REF!"}},{"$f":"#REF!","v":{"$error":"#REF!"}},{"$f":"#REF!","v":{"$error":"#REF!"}},{"$f":"#REF!","v":{"$error":"#REF!"}},{"$error":"#REF!"},{"$error":"#REF!"},{"$error":"#REF!"}]
[{"$f":"#REF!","v":{"$error":"#REF!"}},{"$f":"IF(#REF!<>\"\",#REF!,\"\")","v":{"$error":"#REF!"}},{"$f":"IF(#REF!<>\"\",#REF!,\"\")","v":{"$error":"#REF!"}},{"$f":"IF(#REF!<>\"\",#REF!,\"\")","v":{"$error":"#REF!"}},{"$f":"IF(#REF!<>\"\",#REF!,\"\")","v":{"$error":"#REF!"}},{"$f":"#REF!","v":{"$error":"#REF!"}},{"$f":"#REF!","v":{"$error":"#REF!"}},{"$f":"#REF!","v":{"$error":"#REF!"}},{"$f":"#REF!","v":{"$error":"#REF!"}},{"$f":"#REF!","v":{"$error":"#REF!"}},{"$f":"#REF!","v":{"$error":"#REF!"}},{"$error":"#REF!"},{"$error":"#REF!"},{"$error":"#REF!"}]
[{"$f":"#REF!","v":{"$error":"#REF!"}},{"$f":"IF(#REF!<>\"\",#REF!,\"\")","v":{"$error":"#REF!"}},{"$f":"IF(#REF!<>\"\",#REF!,\"\")","v":{"$error":"#REF!"}},{"$f":"IF(#REF!<>\"\",#REF!,\"\")","v":{"$error":"#REF!"}},{"$f":"IF(#REF!<>\"\",#REF!,\"\")","v":{"$error":"#REF!"}},{"$f":"#REF!","v":{"$error":"#REF!"}},{"$f":"#REF!","v":{"$error":"#REF!"}},{"$f":"#REF!","v":{"$error":"#REF!"}},{"$f":"#REF!","v":{"$error":"#REF!"}},{"$f":"#REF!","v":{"$error":"#REF!"}},{"$f":"#REF!","v":{"$error":"#REF!"}},{"$error":"#REF!"},{"$error":"#REF!"},{"$error":"#REF!"}]
[{"$f":"#REF!","v":{"$error":"#REF!"}},{"$f":"IF(#REF!<>\"\",#REF!,\"\")","v":{"$error":"#REF!"}},{"$f":"IF(#REF!<>\"\",#REF!,\"\")","v":{"$error":"#REF!"}},{"$f":"IF(#REF!<>\"\",#REF!,\"\")","v":{"$error":"#REF!"}},{"$f":"IF(#REF!<>\"\",#REF!,\"\")","v":{"$error":"#REF!"}},{"$f":"#REF!","v":{"$error":"#REF!"}},{"$f":"#REF!","v":{"$error":"#REF!"}},{"$f":"#REF!","v":{"$error":"#REF!"}},{"$f":"#REF!","v":{"$error":"#REF!"}},{"$f":"#REF!","v":{"$error":"#REF!"}},{"$f":"#REF!","v":{"$error":"#REF!"}},{"$error":"#REF!"},{"$error":"#REF!"},{"$error":"#REF!"}]
[{"$f":"#REF!","v":{"$error":"#REF!"}},{"$f":"IF(#REF!<>\"\",#REF!,\"\")","v":{"$error":"#REF!"}},{"$f":"IF(#REF!<>\"\",#REF!,\"\")","v":{"$error":"#REF!"}},{"$f":"IF(#REF!<>\"\",#REF!,\"\")","v":{"$error":"#REF!"}},{"$f":"IF(#REF!<>\"\",#REF!,\"\")","v":{"$error":"#REF!"}},{"$f":"#REF!","v":{"$error":"#REF!"}},{"$f":"#REF!","v":{"$error":"#REF!"}},{"$f":"#REF!","v":{"$error":"#REF!"}},{"$f":"#REF!","v":{"$error":"#REF!"}},{"$f":"#REF!","v":{"$error":"#REF!"}},{"$f":"#REF!","v":{"$error":"#REF!"}},{"$error":"#REF!"},{"$error":"#REF!"},{"$error":"#REF!"}]
[{"$f":"#REF!","v":{"$error":"#REF!"}},{"$f":"IF(#REF!<>\"\",#REF!,\"\")","v":{"$error":"#REF!"}},{"$f":"IF(#REF!<>\"\",#REF!,\"\")","v":{"$error":"#REF!"}},{"$f":"IF(#REF!<>\"\",#REF!,\"\")","v":{"$error":"#REF!"}},{"$f":"IF(#REF!<>\"\",#REF!,\"\")","v":{"$error":"#REF!"}},{"$f":"#REF!","v":{"$error":"#REF!"}},{"$f":"#REF!","v":{"$error":"#REF!"}},{"$f":"#REF!","v":{"$error":"#REF!"}},{"$f":"#REF!","v":{"$error":"#REF!"}},{"$f":"#REF!","v":{"$error":"#REF!"}},{"$f":"#REF!","v":{"$error":"#REF!"}},{"$error":"#REF!"},{"$error":"#REF!"},{"$error":"#REF!"}]
[{"$f":"#REF!","v":{"$error":"#REF!"}},{"$f":"IF(#REF!<>\"\",#REF!,\"\")","v":{"$error":"#REF!"}},{"$f":"IF(#REF!<>\"\",#REF!,\"\")","v":{"$error":"#REF!"}},{"$f":"IF(#REF!<>\"\",#REF!,\"\")","v":{"$error":"#REF!"}},{"$f":"IF(#REF!<>\"\",#REF!,\"\")","v":{"$error":"#REF!"}},{"$f":"#REF!","v":{"$error":"#REF!"}},{"$f":"#REF!","v":{"$error":"#REF!"}},{"$f":"#REF!","v":{"$error":"#REF!"}},{"$f":"#REF!","v":{"$error":"#REF!"}},{"$f":"#REF!","v":{"$error":"#REF!"}},{"$f":"#REF!","v":{"$error":"#REF!"}},{"$error":"#REF!"},{"$error":"#REF!"},{"$error":"#REF!"}]
[{"$f":"#REF!","v":{"$error":"#REF!"}},{"$f":"IF(#REF!<>\"\",#REF!,\"\")","v":{"$error":"#REF!"}},{"$f":"IF(#REF!<>\"\",#REF!,\"\")","v":{"$error":"#REF!"}},{"$f":"IF(#REF!<>\"\",#REF!,\"\")","v":{"$error":"#REF!"}},{"$f":"IF(#REF!<>\"\",#REF!,\"\")","v":{"$error":"#REF!"}},{"$f":"#REF!","v":{"$error":"#REF!"}},{"$f":"#REF!","v":{"$error":"#REF!"}},{"$f":"#REF!","v":{"$error":"#REF!"}},{"$f":"#REF!","v":{"$error":"#REF!"}},{"$f":"#REF!","v":{"$error":"#REF!"}},{"$f":"#REF!","v":{"$error":"#REF!"}},{"$error":"#REF!"},{"$error":"#REF!"},{"$error":"#REF!"}]
[{"$f":"#REF!","v":{"$error":"#REF!"}},{"$f":"IF(#REF!<>\"\",#REF!,\"\")","v":{"$error":"#REF!"}},{"$f":"IF(#REF!<>\"\",#REF!,\"\")","v":{"$error":"#REF!"}},{"$f":"IF(#REF!<>\"\",#REF!,\"\")","v":{"$error":"#REF!"}},{"$f":"IF(#REF!<>\"\",#REF!,\"\")","v":{"$error":"#REF!"}},{"$f":"#REF!","v":{"$error":"#REF!"}},{"$f":"#REF!","v":{"$error":"#REF!"}},{"$f":"#REF!","v":{"$error":"#REF!"}},{"$f":"#REF!","v":{"$error":"#REF!"}},{"$f":"#REF!","v":{"$error":"#REF!"}},{"$f":"#REF!","v":{"$error":"#REF!"}},{"$f":"MIN(F54:K54)","v":{"$error":"#REF!"}},{"$f":"1000*(N54)/MAX(N$22:N$71)","v":{"$error":"#REF!"}},{"$f":"SUM(F54:K54)-L54","v":{"$error":"#REF!"}}]
[{"$f":"#REF!","v":{"$error":"#REF!"}},{"$f":"IF(#REF!<>\"\",#REF!,\"\")","v":{"$error":"#REF!"}},{"$f":"IF(#REF!<>\"\",#REF!,\"\")","v":{"$error":"#REF!"}},{"$f":"IF(#REF!<>\"\",#REF!,\"\")","v":{"$error":"#REF!"}},{"$f":"IF(#REF!<>\"\",#REF!,\"\")","v":{"$error":"#REF!"}},{"$f":"#REF!","v":{"$error":"#REF!"}},{"$f":"#REF!","v":{"$error":"#REF!"}},{"$f":"#REF!","v":{"$error":"#REF!"}},{"$f":"#REF!","v":{"$error":"#REF!"}},{"$f":"#REF!","v":{"$error":"#REF!"}},{"$f":"#REF!","v":{"$error":"#REF!"}},{"$error":"#REF!"},{"$error":"#REF!"},{"$error":"#REF!"}]
[{"$f":"#REF!","v":{"$error":"#REF!"}},{"$f":"IF(#REF!<>\"\",#REF!,\"\")","v":{"$error":"#REF!"}},{"$f":"IF(#REF!<>\"\",#REF!,\"\")","v":{"$error":"#REF!"}},{"$f":"IF(#REF!<>\"\",#REF!,\"\")","v":{"$error":"#REF!"}},{"$f":"IF(#REF!<>\"\",#REF!,\"\")","v":{"$error":"#REF!"}},{"$f":"#REF!","v":{"$error":"#REF!"}},{"$f":"#REF!","v":{"$error":"#REF!"}},{"$f":"#REF!","v":{"$error":"#REF!"}},{"$f":"#REF!","v":{"$error":"#REF!"}},{"$f":"#REF!","v":{"$error":"#REF!"}},{"$f":"#REF!","v":{"$error":"#REF!"}},{"$error":"#REF!"},{"$error":"#REF!"},{"$error":"#REF!"}]
[{"$f":"#REF!","v":{"$error":"#REF!"}},{"$f":"IF(#REF!<>\"\",#REF!,\"\")","v":{"$error":"#REF!"}},{"$f":"IF(#REF!<>\"\",#REF!,\"\")","v":{"$error":"#REF!"}},{"$f":"IF(#REF!<>\"\",#REF!,\"\")","v":{"$error":"#REF!"}},{"$f":"IF(#REF!<>\"\",#REF!,\"\")","v":{"$error":"#REF!"}},{"$f":"#REF!","v":{"$error":"#REF!"}},{"$f":"#REF!","v":{"$error":"#REF!"}},{"$f":"#REF!","v":{"$error":"#REF!"}},{"$f":"#REF!","v":{"$error":"#REF!"}},{"$f":"#REF!","v":{"$error":"#REF!"}},{"$f":"#REF!","v":{"$error":"#REF!"}},{"$error":"#REF!"},{"$error":"#REF!"},{"$error":"#REF!"}]
[{"$f":"#REF!","v":{"$error":"#REF!"}},{"$f":"IF(#REF!<>\"\",#REF!,\"\")","v":{"$error":"#REF!"}},{"$f":"IF(#REF!<>\"\",#REF!,\"\")","v":{"$error":"#REF!"}},{"$f":"IF(#REF!<>\"\",#REF!,\"\")","v":{"$error":"#REF!"}},{"$f":"IF(#REF!<>\"\",#REF!,\"\")","v":{"$error":"#REF!"}},{"$f":"#REF!","v":{"$error":"#REF!"}},{"$f":"#REF!","v":{"$error":"#REF!"}},{"$f":"#REF!","v":{"$error":"#REF!"}},{"$f":"#REF!","v":{"$error":"#REF!"}},{"$f":"#REF!","v":{"$error":"#REF!"}},{"$f":"#REF!","v":{"$error":"#REF!"}},{"$error":"#REF!"},{"$error":"#REF!"},{"$error":"#REF!"}]
[{"$f":"#REF!","v":{"$error":"#REF!"}},{"$f":"IF(#REF!<>\"\",#REF!,\"\")","v":{"$error":"#REF!"}},{"$f":"IF(#REF!<>\"\",#REF!,\"\")","v":{"$error":"#REF!"}},{"$f":"IF(#REF!<>\"\",#REF!,\"\")","v":{"$error":"#REF!"}},{"$f":"IF(#REF!<>\"\",#REF!,\"\")","v":{"$error":"#REF!"}},{"$f":"#REF!","v":{"$error":"#REF!"}},{"$f":"#REF!","v":{"$error":"#REF!"}},{"$f":"#REF!","v":{"$error":"#REF!"}},{"$f":"#REF!","v":{"$error":"#REF!"}},{"$f":"#REF!","v":{"$error":"#REF!"}},{"$f":"#REF!","v":{"$error":"#REF!"}},{"$error":"#REF!"},{"$error":"#REF!"},{"$error":"#REF!"}]
[{"$f":"#REF!","v":{"$error":"#REF!"}},{"$f":"IF(#REF!<>\"\",#REF!,\"\")","v":{"$error":"#REF!"}},{"$f":"IF(#REF!<>\"\",#REF!,\"\")","v":{"$error":"#REF!"}},{"$f":"IF(#REF!<>\"\",#REF!,\"\")","v":{"$error":"#REF!"}},{"$f":"IF(#REF!<>\"\",#REF!,\"\")","v":{"$error":"#REF!"}},{"$f":"#REF!","v":{"$error":"#REF!"}},{"$f":"#REF!","v":{"$error":"#REF!"}},{"$f":"#REF!","v":{"$error":"#REF!"}},{"$f":"#REF!","v":{"$error":"#REF!"}},{"$f":"#REF!","v":{"$error":"#REF!"}},{"$f":"#REF!","v":{"$error":"#REF!"}},{"$error":"#REF!"},{"$error":"#REF!"},{"$error":"#REF!"}]
[{"$f":"#REF!","v":{"$error":"#REF!"}},{"$f":"IF(#REF!<>\"\",#REF!,\"\")","v":{"$error":"#REF!"}},{"$f":"IF(#REF!<>\"\",#REF!,\"\")","v":{"$error":"#REF!"}},{"$f":"IF(#REF!<>\"\",#REF!,\"\")","v":{"$error":"#REF!"}},{"$f":"IF(#REF!<>\"\",#REF!,\"\")","v":{"$error":"#REF!"}},{"$f":"#REF!","v":{"$error":"#REF!"}},{"$f":"#REF!","v":{"$error":"#REF!"}},{"$f":"#REF!","v":{"$error":"#REF!"}},{"$f":"#REF!","v":{"$error":"#REF!"}},{"$f":"#REF!","v":{"$error":"#REF!"}},{"$f":"#REF!","v":{"$error":"#REF!"}},{"$error":"#REF!"},{"$error":"#REF!"},{"$error":"#REF!"}]
[{"$f":"#REF!","v":{"$error":"#REF!"}},{"$f":"IF(#REF!<>\"\",#REF!,\"\")","v":{"$error":"#REF!"}},{"$f":"IF(#REF!<>\"\",#REF!,\"\")","v":{"$error":"#REF!"}},{"$f":"IF(#REF!<>\"\",#REF!,\"\")","v":{"$error":"#REF!"}},{"$f":"IF(#REF!<>\"\",#REF!,\"\")","v":{"$error":"#REF!"}},{"$f":"#REF!","v":{"$error":"#REF!"}},{"$f":"#REF!","v":{"$error":"#REF!"}},{"$f":"#REF!","v":{"$error":"#REF!"}},{"$f":"#REF!","v":{"$error":"#REF!"}},{"$f":"#REF!","v":{"$error":"#REF!"}},{"$f":"#REF!","v":{"$error":"#REF!"}},{"$error":"#REF!"},{"$error":"#REF!"},{"$error":"#REF!"}]
[{"$f":"#REF!","v":{"$error":"#REF!"}},{"$f":"IF(#REF!<>\"\",#REF!,\"\")","v":{"$error":"#REF!"}},{"$f":"IF(#REF!<>\"\",#REF!,\"\")","v":{"$error":"#REF!"}},{"$f":"IF(#REF!<>\"\",#REF!,\"\")","v":{"$error":"#REF!"}},{"$f":"IF(#REF!<>\"\",#REF!,\"\")","v":{"$error":"#REF!"}},{"$f":"#REF!","v":{"$error":"#REF!"}},{"$f":"#REF!","v":{"$error":"#REF!"}},{"$f":"#REF!","v":{"$error":"#REF!"}},{"$f":"#REF!","v":{"$error":"#REF!"}},{"$f":"#REF!","v":{"$error":"#REF!"}},{"$f":"#REF!","v":{"$error":"#REF!"}},{"$error":"#REF!"},{"$error":"#REF!"},{"$error":"#REF!"}]
[{"$f":"#REF!","v":{"$error":"#REF!"}},{"$f":"IF(#REF!<>\"\",#REF!,\"\")","v":{"$error":"#REF!"}},{"$f":"IF(#REF!<>\"\",#REF!,\"\")","v":{"$error":"#REF!"}},{"$f":"IF(#REF!<>\"\",#REF!,\"\")","v":{"$error":"#REF!"}},{"$f":"IF(#REF!<>\"\",#REF!,\"\")","v":{"$error":"#REF!"}},{"$f":"#REF!","v":{"$error":"#REF!"}},{"$f":"#REF!","v":{"$error":"#REF!"}},{"$f":"#REF!","v":{"$error":"#REF!"}},{"$f":"#REF!","v":{"$error":"#REF!"}},{"$f":"#REF!","v":{"$error":"#REF!"}},{"$f":"#REF!","v":{"$error":"#REF!"}},{"$error":"#REF!"},{"$error":"#REF!"},{"$error":"#REF!"}]
[{"$f":"#REF!","v":{"$error":"#REF!"}},{"$f":"IF(#REF!<>\"\",#REF!,\"\")","v":{"$error":"#REF!"}},{"$f":"IF(#REF!<>\"\",#REF!,\"\")","v":{"$error":"#REF!"}},{"$f":"IF(#REF!<>\"\",#REF!,\"\")","v":{"$error":"#REF!"}},{"$f":"IF(#REF!<>\"\",#REF!,\"\")","v":{"$error":"#REF!"}},{"$f":"#REF!","v":{"$error":"#REF!"}},{"$f":"#REF!","v":{"$error":"#REF!"}},{"$f":"#REF!","v":{"$error":"#REF!"}},{"$f":"#REF!","v":{"$error":"#REF!"}},{"$f":"#REF!","v":{"$error":"#REF!"}},{"$f":"#REF!","v":{"$error":"#REF!"}},{"$error":"#REF!"},{"$error":"#REF!"},{"$error":"#REF!"}]
[{"$f":"#REF!","v":{"$error":"#REF!"}},{"$f":"IF(#REF!<>\"\",#REF!,\"\")","v":{"$error":"#REF!"}},{"$f":"IF(#REF!<>\"\",#REF!,\"\")","v":{"$error":"#REF!"}},{"$f":"IF(#REF!<>\"\",#REF!,\"\")","v":{"$error":"#REF!"}},{"$f":"IF(#REF!<>\"\",#REF!,\"\")","v":{"$error":"#REF!"}},{"$f":"#REF!","v":{"$error":"#REF!"}},{"$f":"#REF!","v":{"$error":"#REF!"}},{"$f":"#REF!","v":{"$error":"#REF!"}},{"$f":"#REF!","v":{"$error":"#REF!"}},{"$f":"#REF!","v":{"$error":"#REF!"}},{"$f":"#REF!","v":{"$error":"#REF!"}},{"$error":"#REF!"},{"$error":"#REF!"},{"$error":"#REF!"}]
[{"$f":"#REF!","v":{"$error":"#REF!"}},{"$f":"IF(#REF!<>\"\",#REF!,\"\")","v":{"$error":"#REF!"}},{"$f":"IF(#REF!<>\"\",#REF!,\"\")","v":{"$error":"#REF!"}},{"$f":"IF(#REF!<>\"\",#REF!,\"\")","v":{"$error":"#REF!"}},{"$f":"IF(#REF!<>\"\",#REF!,\"\")","v":{"$error":"#REF!"}},{"$f":"#REF!","v":{"$error":"#REF!"}},{"$f":"#REF!","v":{"$error":"#REF!"}},{"$f":"#REF!","v":{"$error":"#REF!"}},{"$f":"#REF!","v":{"$error":"#REF!"}},{"$f":"#REF!","v":{"$error":"#REF!"}},{"$f":"#REF!","v":{"$error":"#REF!"}},{"$error":"#REF!"},{"$error":"#REF!"},{"$error":"#REF!"}]
[{"$f":"#REF!","v":{"$error":"#REF!"}},{"$f":"IF(#REF!<>\"\",#REF!,\"\")","v":{"$error":"#REF!"}},{"$f":"IF(#REF!<>\"\",#REF!,\"\")","v":{"$error":"#REF!"}},{"$f":"IF(#REF!<>\"\",#REF!,\"\")","v":{"$error":"#REF!"}},{"$f":"IF(#REF!<>\"\",#REF!,\"\")","v":{"$error":"#REF!"}},{"$f":"#REF!","v":{"$error":"#REF!"}},{"$f":"#REF!","v":{"$error":"#REF!"}},{"$f":"#REF!","v":{"$error":"#REF!"}},{"$f":"#REF!","v":{"$error":"#REF!"}},{"$f":"#REF!","v":{"$error":"#REF!"}},{"$f":"#REF!","v":{"$error":"#REF!"}},{"$error":"#REF!"},{"$error":"#REF!"},{"$error":"#REF!"}]
[{"$f":"#REF!","v":{"$error":"#REF!"}},{"$f":"IF(#REF!<>\"\",#REF!,\"\")","v":{"$error":"#REF!"}},{"$f":"IF(#REF!<>\"\",#REF!,\"\")","v":{"$error":"#REF!"}},{"$f":"IF(#REF!<>\"\",#REF!,\"\")","v":{"$error":"#REF!"}},{"$f":"IF(#REF!<>\"\",#REF!,\"\")","v":{"$error":"#REF!"}},{"$f":"#REF!","v":{"$error":"#REF!"}},{"$f":"#REF!","v":{"$error":"#REF!"}},{"$f":"#REF!","v":{"$error":"#REF!"}},{"$f":"#REF!","v":{"$error":"#REF!"}},{"$f":"#REF!","v":{"$error":"#REF!"}},{"$f":"#REF!","v":{"$error":"#REF!"}},{"$error":"#REF!"},{"$error":"#REF!"},{"$error":"#REF!"}]
[{"$f":"#REF!","v":{"$error":"#REF!"}},{"$f":"IF(#REF!<>\"\",#REF!,\"\")","v":{"$error":"#REF!"}},{"$f":"IF(#REF!<>\"\",#REF!,\"\")","v":{"$error":"#REF!"}},{"$f":"IF(#REF!<>\"\",#REF!,\"\")","v":{"$error":"#REF!"}},{"$f":"IF(#REF!<>\"\",#REF!,\"\")","v":{"$error":"#REF!"}},{"$f":"#REF!","v":{"$error":"#REF!"}},{"$f":"#REF!","v":{"$error":"#REF!"}},{"$f":"#REF!","v":{"$error":"#REF!"}},{"$f":"#REF!","v":{"$error":"#REF!"}},{"$f":"#REF!","v":{"$error":"#REF!"}},{"$f":"#REF!","v":{"$error":"#REF!"}},{"$error":"#REF!"},{"$error":"#REF!"},{"$error":"#REF!"}]
[{"$f":"#REF!","v":{"$error":"#REF!"}},{"$f":"IF(#REF!<>\"\",#REF!,\"\")","v":{"$error":"#REF!"}},{"$f":"IF(#REF!<>\"\",#REF!,\"\")","v":{"$error":"#REF!"}},{"$f":"IF(#REF!<>\"\",#REF!,\"\")","v":{"$error":"#REF!"}},{"$f":"IF(#REF!<>\"\",#REF!,\"\")","v":{"$error":"#REF!"}},{"$f":"#REF!","v":{"$error":"#REF!"}},{"$f":"#REF!","v":{"$error":"#REF!"}},{"$f":"#REF!","v":{"$error":"#REF!"}},{"$f":"#REF!","v":{"$error":"#REF!"}},{"$f":"#REF!","v":{"$error":"#REF!"}},{"$f":"#REF!","v":{"$error":"#REF!"}},{"$error":"#REF!"},{"$error":"#REF!"},{"$error":"#REF!"}]
[{"$f":"#REF!","v":{"$error":"#REF!"}},{"$f":"IF(#REF!<>\"\",#REF!,\"\")","v":{"$error":"#REF!"}},{"$f":"IF(#REF!<>\"\",#REF!,\"\")","v":{"$error":"#REF!"}},{"$f":"IF(#REF!<>\"\",#REF!,\"\")","v":{"$error":"#REF!"}},{"$f":"IF(#REF!<>\"\",#REF!,\"\")","v":{"$error":"#REF!"}},{"$f":"#REF!","v":{"$error":"#REF!"}},{"$f":"#REF!","v":{"$error":"#REF!"}},{"$f":"#REF!","v":{"$error":"#REF!"}},{"$f":"#REF!","v":{"$error":"#REF!"}},{"$f":"#REF!","v":{"$error":"#REF!"}},{"$f":"#REF!","v":{"$error":"#REF!"}},{"$error":"#REF!"},{"$error":"#REF!"}]
[{"$f":"#REF!","v":{"$error":"#REF!"}},{"$f":"IF(#REF!<>\"\",#REF!,\"\")","v":{"$error":"#REF!"}},{"$f":"IF(#REF!<>\"\",#REF!,\"\")","v":{"$error":"#REF!"}},{"$f":"IF(#REF!<>\"\",#REF!,\"\")","v":{"$error":"#REF!"}},{"$f":"IF(#REF!<>\"\",#REF!,\"\")","v":{"$error":"#REF!"}},{"$f":"#REF!","v":{"$error":"#REF!"}},{"$f":"#REF!","v":{"$error":"#REF!"}},{"$f":"#REF!","v":{"$error":"#REF!"}},{"$f":"#REF!","v":{"$error":"#REF!"}},{"$f":"#REF!","v":{"$error":"#REF!"}},{"$f":"#REF!","v":{"$error":"#REF!"}},{"$error":"#REF!"},{"$error":"#REF!"}]
[{"$f":"#REF!","v":{"$error":"#REF!"}},{"$f":"IF(#REF!<>\"\",#REF!,\"\")","v":{"$error":"#REF!"}},{"$f":"IF(#REF!<>\"\",#REF!,\"\")","v":{"$error":"#REF!"}},{"$f":"IF(#REF!<>\"\",#REF!,\"\")","v":{"$error":"#REF!"}},{"$f":"IF(#REF!<>\"\",#REF!,\"\")","v":{"$error":"#REF!"}},{"$f":"#REF!","v":{"$error":"#REF!"}},{"$f":"#REF!","v":{"$error":"#REF!"}},{"$f":"#REF!","v":{"$error":"#REF!"}},{"$f":"#REF!","v":{"$error":"#REF!"}},{"$f":"#REF!","v":{"$error":"#REF!"}},{"$f":"#REF!","v":{"$error":"#REF!"}},{"$error":"#REF!"},{"$error":"#REF!"}]
[{"$f":"#REF!","v":{"$error":"#REF!"}},{"$f":"IF(#REF!<>\"\",#REF!,\"\")","v":{"$error":"#REF!"}},{"$f":"IF(#REF!<>\"\",#REF!,\"\")","v":{"$error":"#REF!"}},{"$f":"IF(#REF!<>\"\",#REF!,\"\")","v":{"$error":"#REF!"}},{"$f":"IF(#REF!<>\"\",#REF!,\"\")","v":{"$error":"#REF!"}},{"$f":"#REF!","v":{"$error":"#REF!"}},{"$f":"#REF!","v":{"$error":"#REF!"}},{"$f":"#REF!","v":{"$error":"#REF!"}},{"$f":"#REF!","v":{"$error":"#REF!"}},{"$f":"#REF!","v":{"$error":"#REF!"}},{"$f":"#REF!","v":{"$error":"#REF!"}},{"$error":"#REF!"},{"$error":"#REF!"}]
[{"$f":"#REF!","v":{"$error":"#REF!"}},{"$f":"IF(#REF!<>\"\",#REF!,\"\")","v":{"$error":"#REF!"}},{"$f":"IF(#REF!<>\"\",#REF!,\"\")","v":{"$error":"#REF!"}},{"$f":"IF(#REF!<>\"\",#REF!,\"\")","v":{"$error":"#REF!"}},{"$f":"IF(#REF!<>\"\",#REF!,\"\")","v":{"$error":"#REF!"}},{"$f":"#REF!","v":{"$error":"#REF!"}},{"$f":"#REF!","v":{"$error":"#REF!"}},{"$f":"#REF!","v":{"$error":"#REF!"}},{"$f":"#REF!","v":{"$error":"#REF!"}},{"$f":"#REF!","v":{"$error":"#REF!"}},{"$f":"#REF!","v":{"$error":"#REF!"}},{"$error":"#REF!"},{"$error":"#REF!"}]
[{"$f":"#REF!","v":{"$error":"#REF!"}},{"$f":"IF(#REF!<>\"\",#REF!,\"\")","v":{"$error":"#REF!"}},{"$f":"IF(#REF!<>\"\",#REF!,\"\")","v":{"$error":"#REF!"}},{"$f":"IF(#REF!<>\"\",#REF!,\"\")","v":{"$error":"#REF!"}},{"$f":"IF(#REF!<>\"\",#REF!,\"\")","v":{"$error":"#REF!"}},{"$f":"#REF!","v":{"$error":"#REF!"}},{"$f":"#REF!","v":{"$error":"#REF!"}},{"$f":"#REF!","v":{"$error":"#REF!"}},{"$f":"#REF!","v":{"$error":"#REF!"}},{"$f":"#REF!","v":{"$error":"#REF!"}},{"$f":"#REF!","v":{"$error":"#REF!"}},{"$error":"#REF!"},{"$error":"#REF!"}]
[{"$f":"#REF!","v":{"$error":"#REF!"}},{"$f":"IF(#REF!<>\"\",#REF!,\"\")","v":{"$error":"#REF!"}},{"$f":"IF(#REF!<>\"\",#REF!,\"\")","v":{"$error":"#REF!"}},{"$f":"IF(#REF!<>\"\",#REF!,\"\")","v":{"$error":"#REF!"}},{"$f":"IF(#REF!<>\"\",#REF!,\"\")","v":{"$error":"#REF!"}},{"$f":"#REF!","v":{"$error":"#REF!"}},{"$f":"#REF!","v":{"$error":"#REF!"}},{"$f":"#REF!","v":{"$error":"#REF!"}},{"$f":"#REF!","v":{"$error":"#REF!"}},{"$f":"#REF!","v":{"$error":"#REF!"}},{"$f":"#REF!","v":{"$error":"#REF!"}},{"$error":"#REF!"},{"$error":"#REF!"}]
[{"$f":"#REF!","v":{"$error":"#REF!"}},{"$f":"IF(#REF!<>\"\",#REF!,\"\")","v":{"$error":"#REF!"}},{"$f":"IF(#REF!<>\"\",#REF!,\"\")","v":{"$error":"#REF!"}},{"$f":"IF(#REF!<>\"\",#REF!,\"\")","v":{"$error":"#REF!"}},{"$f":"IF(#REF!<>\"\",#REF!,\"\")","v":{"$error":"#REF!"}},{"$f":"#REF!","v":{"$error":"#REF!"}},{"$f":"#REF!","v":{"$error":"#REF!"}},{"$f":"#REF!","v":{"$error":"#REF!"}},{"$f":"#REF!","v":{"$error":"#REF!"}},{"$f":"#REF!","v":{"$error":"#REF!"}},{"$f":"#REF!","v":{"$error":"#REF!"}},{"$error":"#REF!"},{"$error":"#REF!"}]
[{"$f":"#REF!","v":{"$error":"#REF!"}},{"$f":"IF(#REF!<>\"\",#REF!,\"\")","v":{"$error":"#REF!"}},{"$f":"IF(#REF!<>\"\",#REF!,\"\")","v":{"$error":"#REF!"}},{"$f":"IF(#REF!<>\"\",#REF!,\"\")","v":{"$error":"#REF!"}},{"$f":"IF(#REF!<>\"\",#REF!,\"\")","v":{"$error":"#REF!"}},{"$f":"#REF!","v":{"$error":"#REF!"}},{"$f":"#REF!","v":{"$error":"#REF!"}},{"$f":"#REF!","v":{"$error":"#REF!"}},{"$f":"#REF!","v":{"$error":"#REF!"}},{"$f":"#REF!","v":{"$error":"#REF!"}},{"$f":"#REF!","v":{"$error":"#REF!"}},{"$error":"#REF!"},{"$error":"#REF!"}]
[{"$f":"#REF!","v":{"$error":"#REF!"}},{"$f":"IF(#REF!<>\"\",#REF!,\"\")","v":{"$error":"#REF!"}},{"$f":"IF(#REF!<>\"\",#REF!,\"\")","v":{"$error":"#REF!"}},{"$f":"IF(#REF!<>\"\",#REF!,\"\")","v":{"$error":"#REF!"}},{"$f":"IF(#REF!<>\"\",#REF!,\"\")","v":{"$error":"#REF!"}},{"$f":"#REF!","v":{"$error":"#REF!"}},{"$f":"#REF!","v":{"$error":"#REF!"}},{"$f":"#REF!","v":{"$error":"#REF!"}},{"$f":"#REF!","v":{"$error":"#REF!"}},{"$f":"#REF!","v":{"$error":"#REF!"}},{"$f":"#REF!","v":{"$error":"#REF!"}},{"$error":"#REF!"},{"$error":"#REF!"}]
[{"$f":"#REF!","v":{"$error":"#REF!"}},{"$f":"IF(#REF!<>\"\",#REF!,\"\")","v":{"$error":"#REF!"}},{"$f":"IF(#REF!<>\"\",#REF!,\"\")","v":{"$error":"#REF!"}},{"$f":"IF(#REF!<>\"\",#REF!,\"\")","v":{"$error":"#REF!"}},{"$f":"IF(#REF!<>\"\",#REF!,\"\")","v":{"$error":"#REF!"}},{"$f":"#REF!","v":{"$error":"#REF!"}},{"$f":"#REF!","v":{"$error":"#REF!"}},{"$f":"#REF!","v":{"$error":"#REF!"}},{"$f":"#REF!","v":{"$error":"#REF!"}},{"$f":"#REF!","v":{"$error":"#REF!"}},{"$f":"#REF!","v":{"$error":"#REF!"}},{"$error":"#REF!"},{"$error":"#REF!"}]
[{"$f":"#REF!","v":{"$error":"#REF!"}},{"$f":"IF(#REF!<>\"\",#REF!,\"\")","v":{"$error":"#REF!"}},{"$f":"IF(#REF!<>\"\",#REF!,\"\")","v":{"$error":"#REF!"}},{"$f":"IF(#REF!<>\"\",#REF!,\"\")","v":{"$error":"#REF!"}},{"$f":"IF(#REF!<>\"\",#REF!,\"\")","v":{"$error":"#REF!"}},{"$f":"#REF!","v":{"$error":"#REF!"}},{"$f":"#REF!","v":{"$error":"#REF!"}},{"$f":"#REF!","v":{"$error":"#REF!"}},{"$f":"#REF!","v":{"$error":"#REF!"}},{"$f":"#REF!","v":{"$error":"#REF!"}},{"$f":"#REF!","v":{"$error":"#REF!"}},{"$error":"#REF!"},{"$error":"#REF!"}]
[{"$f":"#REF!","v":{"$error":"#REF!"}},{"$f":"IF(#REF!<>\"\",#REF!,\"\")","v":{"$error":"#REF!"}},{"$f":"IF(#REF!<>\"\",#REF!,\"\")","v":{"$error":"#REF!"}},{"$f":"IF(#REF!<>\"\",#REF!,\"\")","v":{"$error":"#REF!"}},{"$f":"IF(#REF!<>\"\",#REF!,\"\")","v":{"$error":"#REF!"}},{"$f":"#REF!","v":{"$error":"#REF!"}},{"$f":"#REF!","v":{"$error":"#REF!"}},{"$f":"#REF!","v":{"$error":"#REF!"}},{"$f":"#REF!","v":{"$error":"#REF!"}},{"$f":"#REF!","v":{"$error":"#REF!"}},{"$f":"#REF!","v":{"$error":"#REF!"}},{"$error":"#REF!"},{"$error":"#REF!"}]
[{"$f":"#REF!","v":{"$error":"#REF!"}},{"$f":"IF(#REF!<>\"\",#REF!,\"\")","v":{"$error":"#REF!"}},{"$f":"IF(#REF!<>\"\",#REF!,\"\")","v":{"$error":"#REF!"}},{"$f":"IF(#REF!<>\"\",#REF!,\"\")","v":{"$error":"#REF!"}},{"$f":"IF(#REF!<>\"\",#REF!,\"\")","v":{"$error":"#REF!"}},{"$f":"#REF!","v":{"$error":"#REF!"}},{"$f":"#REF!","v":{"$error":"#REF!"}},{"$f":"#REF!","v":{"$error":"#REF!"}},{"$f":"#REF!","v":{"$error":"#REF!"}},{"$f":"#REF!","v":{"$error":"#REF!"}},{"$f":"#REF!","v":{"$error":"#REF!"}},{"$error":"#REF!"},{"$error":"#REF!"}]
[{"$f":"#REF!","v":{"$error":"#REF!"}},{"$f":"IF(#REF!<>\"\",#REF!,\"\")","v":{"$error":"#REF!"}},{"$f":"IF(#REF!<>\"\",#REF!,\"\")","v":{"$error":"#REF!"}},{"$f":"IF(#REF!<>\"\",#REF!,\"\")","v":{"$error":"#REF!"}},{"$f":"IF(#REF!<>\"\",#REF!,\"\")","v":{"$error":"#REF!"}},{"$f":"#REF!","v":{"$error":"#REF!"}},{"$f":"#REF!","v":{"$error":"#REF!"}},{"$f":"#REF!","v":{"$error":"#REF!"}},{"$f":"#REF!","v":{"$error":"#REF!"}},{"$f":"#REF!","v":{"$error":"#REF!"}},{"$f":"#REF!","v":{"$error":"#REF!"}},{"$f":"MIN(F86:K86)","v":{"$error":"#REF!"}},{"$f":"1000*(N86)/MAX(N$22:N$71)","v":{"$error":"#REF!"}}]
[{"$f":"#REF!","v":{"$error":"#REF!"}},{"$f":"IF(#REF!<>\"\",#REF!,\"\")","v":{"$error":"#REF!"}},{"$f":"IF(#REF!<>\"\",#REF!,\"\")","v":{"$error":"#REF!"}},{"$f":"IF(#REF!<>\"\",#REF!,\"\")","v":{"$error":"#REF!"}},{"$f":"IF(#REF!<>\"\",#REF!,\"\")","v":{"$error":"#REF!"}},{"$f":"#REF!","v":{"$error":"#REF!"}},{"$f":"#REF!","v":{"$error":"#REF!"}},{"$f":"#REF!","v":{"$error":"#REF!"}},{"$f":"#REF!","v":{"$error":"#REF!"}},{"$f":"#REF!","v":{"$error":"#REF!"}},{"$f":"#REF!","v":{"$error":"#REF!"}},{"$error":"#REF!"},{"$error":"#REF!"}]
[{"$f":"#REF!","v":{"$error":"#REF!"}},{"$f":"IF(#REF!<>\"\",#REF!,\"\")","v":{"$error":"#REF!"}},{"$f":"IF(#REF!<>\"\",#REF!,\"\")","v":{"$error":"#REF!"}},{"$f":"IF(#REF!<>\"\",#REF!,\"\")","v":{"$error":"#REF!"}},{"$f":"IF(#REF!<>\"\",#REF!,\"\")","v":{"$error":"#REF!"}},{"$f":"#REF!","v":{"$error":"#REF!"}},{"$f":"#REF!","v":{"$error":"#REF!"}},{"$f":"#REF!","v":{"$error":"#REF!"}},{"$f":"#REF!","v":{"$error":"#REF!"}},{"$f":"#REF!","v":{"$error":"#REF!"}},{"$f":"#REF!","v":{"$error":"#REF!"}},{"$error":"#REF!"},{"$error":"#REF!"}]
[{"$f":"#REF!","v":{"$error":"#REF!"}},{"$f":"IF(#REF!<>\"\",#REF!,\"\")","v":{"$error":"#REF!"}},{"$f":"IF(#REF!<>\"\",#REF!,\"\")","v":{"$error":"#REF!"}},{"$f":"IF(#REF!<>\"\",#REF!,\"\")","v":{"$error":"#REF!"}},{"$f":"IF(#REF!<>\"\",#REF!,\"\")","v":{"$error":"#REF!"}},{"$f":"#REF!","v":{"$error":"#REF!"}},{"$f":"#REF!","v":{"$error":"#REF!"}},{"$f":"#REF!","v":{"$error":"#REF!"}},{"$f":"#REF!","v":{"$error":"#REF!"}},{"$f":"#REF!","v":{"$error":"#REF!"}},{"$f":"#REF!","v":{"$error":"#REF!"}},{"$error":"#REF!"},{"$error":"#REF!"}]
[{"$f":"#REF!","v":{"$error":"#REF!"}},{"$f":"IF(#REF!<>\"\",#REF!,\"\")","v":{"$error":"#REF!"}},{"$f":"IF(#REF!<>\"\",#REF!,\"\")","v":{"$error":"#REF!"}},{"$f":"IF(#REF!<>\"\",#REF!,\"\")","v":{"$error":"#REF!"}},{"$f":"IF(#REF!<>\"\",#REF!,\"\")","v":{"$error":"#REF!"}},{"$f":"#REF!","v":{"$error":"#REF!"}},{"$f":"#REF!","v":{"$error":"#REF!"}},{"$f":"#REF!","v":{"$error":"#REF!"}},{"$f":"#REF!","v":{"$error":"#REF!"}},{"$f":"#REF!","v":{"$error":"#REF!"}},{"$f":"#REF!","v":{"$error":"#REF!"}},{"$error":"#REF!"},{"$error":"#REF!"}]
[{"$f":"#REF!","v":{"$error":"#REF!"}},{"$f":"IF(#REF!<>\"\",#REF!,\"\")","v":{"$error":"#REF!"}},{"$f":"IF(#REF!<>\"\",#REF!,\"\")","v":{"$error":"#REF!"}},{"$f":"IF(#REF!<>\"\",#REF!,\"\")","v":{"$error":"#REF!"}},{"$f":"IF(#REF!<>\"\",#REF!,\"\")","v":{"$error":"#REF!"}},{"$f":"#REF!","v":{"$error":"#REF!"}},{"$f":"#REF!","v":{"$error":"#REF!"}},{"$f":"#REF!","v":{"$error":"#REF!"}},{"$f":"#REF!","v":{"$error":"#REF!"}},{"$f":"#REF!","v":{"$error":"#REF!"}},{"$f":"#REF!","v":{"$error":"#REF!"}},{"$error":"#REF!"},{"$error":"#REF!"}]
[{"$f":"#REF!","v":{"$error":"#REF!"}},{"$f":"IF(#REF!<>\"\",#REF!,\"\")","v":{"$error":"#REF!"}},{"$f":"IF(#REF!<>\"\",#REF!,\"\")","v":{"$error":"#REF!"}},{"$f":"IF(#REF!<>\"\",#REF!,\"\")","v":{"$error":"#REF!"}},{"$f":"IF(#REF!<>\"\",#REF!,\"\")","v":{"$error":"#REF!"}},{"$f":"#REF!","v":{"$error":"#REF!"}},{"$f":"#REF!","v":{"$error":"#REF!"}},{"$f":"#REF!","v":{"$error":"#REF!"}},{"$f":"#REF!","v":{"$error":"#REF!"}},{"$f":"#REF!","v":{"$error":"#REF!"}},{"$f":"#REF!","v":{"$error":"#REF!"}},{"$error":"#REF!"},{"$error":"#REF!"}]
[{"$f":"#REF!","v":{"$error":"#REF!"}},{"$f":"IF(#REF!<>\"\",#REF!,\"\")","v":{"$error":"#REF!"}},{"$f":"IF(#REF!<>\"\",#REF!,\"\")","v":{"$error":"#REF!"}},{"$f":"IF(#REF!<>\"\",#REF!,\"\")","v":{"$error":"#REF!"}},{"$f":"IF(#REF!<>\"\",#REF!,\"\")","v":{"$error":"#REF!"}},{"$f":"#REF!","v":{"$error":"#REF!"}},{"$f":"#REF!","v":{"$error":"#REF!"}},{"$f":"#REF!","v":{"$error":"#REF!"}},{"$f":"#REF!","v":{"$error":"#REF!"}},{"$f":"#REF!","v":{"$error":"#REF!"}},{"$f":"#REF!","v":{"$error":"#REF!"}},{"$error":"#REF!"},{"$error":"#REF!"}]
[{"$f":"#REF!","v":{"$error":"#REF!"}},{"$f":"IF(#REF!<>\"\",#REF!,\"\")","v":{"$error":"#REF!"}},{"$f":"IF(#REF!<>\"\",#REF!,\"\")","v":{"$error":"#REF!"}},{"$f":"IF(#REF!<>\"\",#REF!,\"\")","v":{"$error":"#REF!"}},{"$f":"IF(#REF!<>\"\",#REF!,\"\")","v":{"$error":"#REF!"}},{"$f":"#REF!","v":{"$error":"#REF!"}},{"$f":"#REF!","v":{"$error":"#REF!"}},{"$f":"#REF!","v":{"$error":"#REF!"}},{"$f":"#REF!","v":{"$error":"#REF!"}},{"$f":"#REF!","v":{"$error":"#REF!"}},{"$f":"#REF!","v":{"$error":"#REF!"}},{"$error":"#REF!"},{"$error":"#REF!"}]
[{"$f":"#REF!","v":{"$error":"#REF!"}},{"$f":"IF(#REF!<>\"\",#REF!,\"\")","v":{"$error":"#REF!"}},{"$f":"IF(#REF!<>\"\",#REF!,\"\")","v":{"$error":"#REF!"}},{"$f":"IF(#REF!<>\"\",#REF!,\"\")","v":{"$error":"#REF!"}},{"$f":"IF(#REF!<>\"\",#REF!,\"\")","v":{"$error":"#REF!"}},{"$f":"#REF!","v":{"$error":"#REF!"}},{"$f":"#REF!","v":{"$error":"#REF!"}},{"$f":"#REF!","v":{"$error":"#REF!"}},{"$f":"#REF!","v":{"$error":"#REF!"}},{"$f":"#REF!","v":{"$error":"#REF!"}},{"$f":"#REF!","v":{"$error":"#REF!"}},{"$error":"#REF!"},{"$error":"#REF!"}]
[{"$f":"#REF!","v":{"$error":"#REF!"}},{"$f":"IF(#REF!<>\"\",#REF!,\"\")","v":{"$error":"#REF!"}},{"$f":"IF(#REF!<>\"\",#REF!,\"\")","v":{"$error":"#REF!"}},{"$f":"IF(#REF!<>\"\",#REF!,\"\")","v":{"$error":"#REF!"}},{"$f":"IF(#REF!<>\"\",#REF!,\"\")","v":{"$error":"#REF!"}},{"$f":"#REF!","v":{"$error":"#REF!"}},{"$f":"#REF!","v":{"$error":"#REF!"}},{"$f":"#REF!","v":{"$error":"#REF!"}},{"$f":"#REF!","v":{"$error":"#REF!"}},{"$f":"#REF!","v":{"$error":"#REF!"}},{"$f":"#REF!","v":{"$error":"#REF!"}},{"$error":"#REF!"},{"$error":"#REF!"}]